BEGIN:VCALENDAR
VERSION:2.0
PRODID:-//Plone.org//NONSGML plone.app.event//EN
X-WR-TIMEZONE:Europe/Rome
BEGIN:VEVENT
SUMMARY:Open Day Polo economico-giuridico
DTSTART;TZID=Europe/Rome:20260420T091500
DTEND;TZID=Europe/Rome:20260420T123000
DTSTAMP:20260420T190543Z
UID:71c6d76609d047e18e2d7359e64b1d2d@localhost:6081
CONTACT:https://qui.uniud.it/agenda/?month=4&year=2026&day=20&pk=17407#eve
 nto-17407
CREATED:20230112T145627Z
LAST-MODIFIED:20260420T082025Z
LOCATION:Grandi Aule\, Università di Udine\, via Tomadini 30/a\, Udine
URL:https://dies.uniud.it/it/manual-links/events/open-day-polo-economico-g
 iuridico
END:VEVENT
BEGIN:VTIMEZONE
TZID:Europe/Rome
X-LIC-LOCATION:Europe/Rome
BEGIN:DAYLIGHT
DTSTART:20260329T030000
TZNAME:CEST
TZOFFSETFROM:+0100
TZOFFSETTO:+0200
END:DAYLIGHT
END:VTIMEZONE
END:VCALENDAR
